BEGIN:VCALENDAR
VERSION:2.0
PRODID:-//Club de amigos - ECPv6.15.20//NONSGML v1.0//EN
CALSCALE:GREGORIAN
METHOD:PUBLISH
X-WR-CALNAME:Club de amigos
X-ORIGINAL-URL:https://clubdeamigos.eltorotv.com
X-WR-CALDESC:Eventos para Club de amigos
REFRESH-INTERVAL;VALUE=DURATION:PT1H
X-Robots-Tag:noindex
X-PUBLISHED-TTL:PT1H
BEGIN:VTIMEZONE
TZID:Europe/Madrid
BEGIN:DAYLIGHT
TZOFFSETFROM:+0100
TZOFFSETTO:+0200
TZNAME:CEST
DTSTART:20210328T010000
END:DAYLIGHT
BEGIN:STANDARD
TZOFFSETFROM:+0200
TZOFFSETTO:+0100
TZNAME:CET
DTSTART:20211031T010000
END:STANDARD
BEGIN:DAYLIGHT
TZOFFSETFROM:+0100
TZOFFSETTO:+0200
TZNAME:CEST
DTSTART:20220327T010000
END:DAYLIGHT
BEGIN:STANDARD
TZOFFSETFROM:+0200
TZOFFSETTO:+0100
TZNAME:CET
DTSTART:20221030T010000
END:STANDARD
BEGIN:DAYLIGHT
TZOFFSETFROM:+0100
TZOFFSETTO:+0200
TZNAME:CEST
DTSTART:20230326T010000
END:DAYLIGHT
BEGIN:STANDARD
TZOFFSETFROM:+0200
TZOFFSETTO:+0100
TZNAME:CET
DTSTART:20231029T010000
END:STANDARD
END:VTIMEZONE
BEGIN:VEVENT
DTSTART;VALUE=DATE:20221214
DTEND;VALUE=DATE:20221215
DTSTAMP:20260422T203240
CREATED:20220926T142650Z
LAST-MODIFIED:20221121T114059Z
UID:23284-1670976000-1671062399@clubdeamigos.eltorotv.com
SUMMARY:VISITA GUIADA - Ruta Belenes por Madrid
DESCRIPTION:ACTIVIDAD PRESENCIAL \nPLAZAS LIMITADAS PARA PARTICIPACIÓN PRESENCIAL\, HASTA COMPLETAR AFORO  \n  \nEstamos en tiempo de Navidad\, y este año el Club de Amigos te lleva de paseo por algunos de los Belenes más representativos y tradicionales de Madrid. Podrás ver la belleza de las figuras\, el montaje de las escenas\, los trajes\, etc. \nLos visitaremos con nuestra experta en arte\, Mar Cristóbal\, guía oficial de turismo\, y licenciada en Historia. Mar nos dará las claves para saber ver los pequeños detalles y nos explicará los símbolos y significado de cada una de las figuras. \nEste año no puedes quedarte sin ver los Belenes. \nTrae a tus amigos y disfrutaréis de un buen rato. \nFecha y hora: Miercoles 14 de diciembre a las 11:00h \nPrecio: 10€ socio / 15€ no socio \nLlama para reservar tu plaza al teléfono: 916162464\n📍 Punto de encuentro: \n(Pendiente)\nSe quedará  15 minutos antes\n \n«En cumplimiento con la normativa vigente\, se tomarán las  medidas de seguridad COVID en los actos organizados en las instalaciones del Club de Amigos»
URL:https://clubdeamigos.eltorotv.com/evento/visita-guiada-ruta-belenes-por-madrid/
LOCATION:Madrid\, España
CATEGORIES:Museos
ATTACH;FMTTYPE=image/png:https://clubdeamigos.eltorotv.com/wp-content/uploads/2022/09/Belenes-2022-web.png
END:VEVENT
END:VCALENDAR