BEGIN:VCALENDAR
VERSION:2.0
PRODID:-//Club de amigos - ECPv6.15.20//NONSGML v1.0//EN
CALSCALE:GREGORIAN
METHOD:PUBLISH
X-ORIGINAL-URL:https://clubdeamigos.eltorotv.com
X-WR-CALDESC:Eventos para Club de amigos
REFRESH-INTERVAL;VALUE=DURATION:PT1H
X-Robots-Tag:noindex
X-PUBLISHED-TTL:PT1H
BEGIN:VTIMEZONE
TZID:Europe/Madrid
BEGIN:DAYLIGHT
TZOFFSETFROM:+0100
TZOFFSETTO:+0200
TZNAME:CEST
DTSTART:20210328T010000
END:DAYLIGHT
BEGIN:STANDARD
TZOFFSETFROM:+0200
TZOFFSETTO:+0100
TZNAME:CET
DTSTART:20211031T010000
END:STANDARD
BEGIN:DAYLIGHT
TZOFFSETFROM:+0100
TZOFFSETTO:+0200
TZNAME:CEST
DTSTART:20220327T010000
END:DAYLIGHT
BEGIN:STANDARD
TZOFFSETFROM:+0200
TZOFFSETTO:+0100
TZNAME:CET
DTSTART:20221030T010000
END:STANDARD
BEGIN:DAYLIGHT
TZOFFSETFROM:+0100
TZOFFSETTO:+0200
TZNAME:CEST
DTSTART:20230326T010000
END:DAYLIGHT
BEGIN:STANDARD
TZOFFSETFROM:+0200
TZOFFSETTO:+0100
TZNAME:CET
DTSTART:20231029T010000
END:STANDARD
END:VTIMEZONE
BEGIN:VEVENT
DTSTART;TZID=Europe/Madrid:20221123T110000
DTEND;TZID=Europe/Madrid:20221123T120000
DTSTAMP:20260422T223152
CREATED:20220930T121019Z
LAST-MODIFIED:20221004T104741Z
UID:23356-1669201200-1669204800@clubdeamigos.eltorotv.com
SUMMARY:VISITA GUIADA -  Fábrica Nacional de Moneda y Timbre - Real Casa de la Moneda
DESCRIPTION:ACTIVIDAD PRESENCIAL \nPLAZAS LIMITADAS PARA PARTICIPACIÓN PRESENCIAL\, HASTA COMPLETAR AFORO  \n  \nFecha y hora: Miércoles 23  de noviembre a las 11:00h \nPrecio: 10€ socio / 15€ no socio \nLlama para reservar tu plaza al teléfono: 916162464\n📍 Punto de encuentro: \n C. del Dr. Esquerdo\, 36\, 28028 Madrid\nSe quedará  15 minutos antes (10:45h)\n \n«En cumplimiento con la normativa vigente\, se tomarán las  medidas de seguridad COVID en los actos organizados en las instalaciones del Club de Amigos»
URL:https://clubdeamigos.eltorotv.com/evento/visita-guiada-fabrica-nacional-de-moneda-y-timbre-real-casa-de-la-moneda/
LOCATION:Sede del Club de Amigos\, C/ Modesto Lafuente 42\, Madrid\, madrid\, 28003\, España
CATEGORIES:Museos
ATTACH;FMTTYPE=image/jpeg:https://clubdeamigos.eltorotv.com/wp-content/uploads/2022/09/WhatsApp-Image-2022-10-04-at-12.29.14-PM.jpeg
END:VEVENT
END:VCALENDAR