BEGIN:VCALENDAR
VERSION:2.0
PRODID:-//Club de amigos - ECPv6.15.20//NONSGML v1.0//EN
CALSCALE:GREGORIAN
METHOD:PUBLISH
X-ORIGINAL-URL:https://clubdeamigos.eltorotv.com
X-WR-CALDESC:Eventos para Club de amigos
REFRESH-INTERVAL;VALUE=DURATION:PT1H
X-Robots-Tag:noindex
X-PUBLISHED-TTL:PT1H
BEGIN:VTIMEZONE
TZID:Europe/Madrid
BEGIN:DAYLIGHT
TZOFFSETFROM:+0100
TZOFFSETTO:+0200
TZNAME:CEST
DTSTART:20210328T010000
END:DAYLIGHT
BEGIN:STANDARD
TZOFFSETFROM:+0200
TZOFFSETTO:+0100
TZNAME:CET
DTSTART:20211031T010000
END:STANDARD
BEGIN:DAYLIGHT
TZOFFSETFROM:+0100
TZOFFSETTO:+0200
TZNAME:CEST
DTSTART:20220327T010000
END:DAYLIGHT
BEGIN:STANDARD
TZOFFSETFROM:+0200
TZOFFSETTO:+0100
TZNAME:CET
DTSTART:20221030T010000
END:STANDARD
BEGIN:DAYLIGHT
TZOFFSETFROM:+0100
TZOFFSETTO:+0200
TZNAME:CEST
DTSTART:20230326T010000
END:DAYLIGHT
BEGIN:STANDARD
TZOFFSETFROM:+0200
TZOFFSETTO:+0100
TZNAME:CET
DTSTART:20231029T010000
END:STANDARD
END:VTIMEZONE
BEGIN:VEVENT
DTSTART;TZID=Europe/Madrid:20220422T110000
DTEND;TZID=Europe/Madrid:20220422T120000
DTSTAMP:20260423T121132
CREATED:20220113T160336Z
LAST-MODIFIED:20220314T170727Z
UID:22434-1650625200-1650628800@clubdeamigos.eltorotv.com
SUMMARY:Visita guiada: MUSEO DEL FERROCARRIL
DESCRIPTION:Visita guiada: MUSEO DEL FERROCARRIL\nACTIVIDAD PRESENCIAL\nSu sede es la antigua estación de Delicias\, uno de los ejemplos más claros y representativos de la arquitectura industrial española\, que se inauguró en 1880. \nOfrece una selección de vehículos y piezas relacionadas con el ferrocarril\, que pretender mostrar la evolución de este modo de transporte. El museo tiene la misión fundamental de comunicar la realidad ferroviaria\, tanto histórica como actual\, promover el conocimiento del transporte ferroviario\, impulsar la investigación sobre el ferrocarril y poner en valor el patrimonio ferroviario\, todo ello con vocación de servicio público. \nLa visita permite conocer una completísima colección de material histórico ferroviario. La nave central de la estación alberga una muestra muy variada de locomotoras y coches de viajeros\, a través de la cual se puede comprender la evolución de la tracción (vapor\, eléctrica y diésel) ferroviaria en España y las distintas condiciones en las que viajaron los pasajeros de estos trenes. \nA ambos lados de esta nave se abren varias salas temáticas\, entre las que figuran la dedicada a antiguos relojes de estaciones\, otra dedicada a modelismo\, con maquetas animadas\, y una tercera en la que se explican los principales elementos de la infraestructura ferroviaria\, es decir\, de la vía. \nNo dejes pasar la oportunidad. Si estás interesado\, llama al Club o reserva tu plaza\nFecha: Viernes 22 de abril a las 11:00h\nPrecio: Socio : 10€ / No socio: 15 €\n Llama para reservar tu plaza al teléfono: 916162464\n📍 Punto de encuentro: Se quedará siempre 15 minutos (10:45h)\,Paseo de las Delicias\, 61 – 28045 Madrid
URL:https://clubdeamigos.eltorotv.com/evento/visita-guiada-museo-del-ferrocarril/
LOCATION:MUSEO DEL FERROCARRIL
CATEGORIES:Museos
ATTACH;FMTTYPE=image/png:https://clubdeamigos.eltorotv.com/wp-content/uploads/2022/01/@-Creatividad-Museo-del-ferrocarril-1.png
END:VEVENT
END:VCALENDAR