BEGIN:VCALENDAR
VERSION:2.0
PRODID:-//Club de amigos - ECPv6.15.20//NONSGML v1.0//EN
CALSCALE:GREGORIAN
METHOD:PUBLISH
X-WR-CALNAME:Club de amigos
X-ORIGINAL-URL:https://clubdeamigos.eltorotv.com
X-WR-CALDESC:Eventos para Club de amigos
REFRESH-INTERVAL;VALUE=DURATION:PT1H
X-Robots-Tag:noindex
X-PUBLISHED-TTL:PT1H
BEGIN:VTIMEZONE
TZID:Europe/Madrid
BEGIN:DAYLIGHT
TZOFFSETFROM:+0100
TZOFFSETTO:+0200
TZNAME:CEST
DTSTART:20210328T010000
END:DAYLIGHT
BEGIN:STANDARD
TZOFFSETFROM:+0200
TZOFFSETTO:+0100
TZNAME:CET
DTSTART:20211031T010000
END:STANDARD
BEGIN:DAYLIGHT
TZOFFSETFROM:+0100
TZOFFSETTO:+0200
TZNAME:CEST
DTSTART:20220327T010000
END:DAYLIGHT
BEGIN:STANDARD
TZOFFSETFROM:+0200
TZOFFSETTO:+0100
TZNAME:CET
DTSTART:20221030T010000
END:STANDARD
BEGIN:DAYLIGHT
TZOFFSETFROM:+0100
TZOFFSETTO:+0200
TZNAME:CEST
DTSTART:20230326T010000
END:DAYLIGHT
BEGIN:STANDARD
TZOFFSETFROM:+0200
TZOFFSETTO:+0100
TZNAME:CET
DTSTART:20231029T010000
END:STANDARD
END:VTIMEZONE
BEGIN:VEVENT
DTSTART;TZID=Europe/Madrid:20220330T113000
DTEND;TZID=Europe/Madrid:20220330T123000
DTSTAMP:20260423T141429
CREATED:20220111T120226Z
LAST-MODIFIED:20220119T151345Z
UID:22289-1648639800-1648643400@clubdeamigos.eltorotv.com
SUMMARY:Visita guiada: MUSEO ARQUEOLÓGICO - ANTIGUO EGIPTO
DESCRIPTION:Visita guiada: MUSEO ARQUEOLÓGICO – ANTIGUO EGIPTO\nACTIVIDAD PRESENCIAL\nCon esta visita guiada\, os proponemos hacer un crucero por el Nilo\, sin movernos de Madrid. La idea es descubrir a través de las salas y las vitrinas del Museo Arqueológico Nacional todos los secretos\, historias\, leyendas y curiosidades del Egipto más antiguo. \nOs presentaremos a sus dioses\, os contaremos sus historias\, sus amoríos y sus infidelidades\, sus creencias en el más allá y todo el ritual que ello conllevaba desde que morían hasta que se les enterraba. Hablaremos de momias\, tumbas\, pirámides y templos. \nOs comentaremos cómo era su día a día\, conoceremos sus usos y costumbres\, su gastronomía y cómo se organizaba. \nSerá una ruta guiada en la que hablaremos de maldiciones\, mitos y rituales; de faraones\, faraonas y reinas; de sacerdotes y escribas; del Libro de los Muertos y alfabetos secretos. \nNo dejes pasar la oportunidad. Si estás interesado\, llama al Club o reserva tu plaza\nFecha: Miércoles 30 de marzo a las 11:30h\nPrecio: Socio : 10€ / No socio: 15 €\n Llama para reservar tu plaza al teléfono: 916162464\n📍 Punto de encuentro: Se quedará siempre 15 minutos (11:15h)\, C/ Serrano\, 13 28001 Madrid
URL:https://clubdeamigos.eltorotv.com/evento/visita-guiada-museo-arqueologico-antiguo-egipto/
LOCATION:Museo Arqueológico
CATEGORIES:Actividades,Museos
ATTACH;FMTTYPE=image/png:https://clubdeamigos.eltorotv.com/wp-content/uploads/2022/01/@-CDA-VISITAS-GUIADAS-MUSEO-ARQUEOLOGICO-Antiguo-Egipto.png
END:VEVENT
END:VCALENDAR