BEGIN:VCALENDAR
VERSION:2.0
PRODID:-//Club de amigos - ECPv6.15.20//NONSGML v1.0//EN
CALSCALE:GREGORIAN
METHOD:PUBLISH
X-ORIGINAL-URL:https://clubdeamigos.eltorotv.com
X-WR-CALDESC:Eventos para Club de amigos
REFRESH-INTERVAL;VALUE=DURATION:PT1H
X-Robots-Tag:noindex
X-PUBLISHED-TTL:PT1H
BEGIN:VTIMEZONE
TZID:Europe/Madrid
BEGIN:DAYLIGHT
TZOFFSETFROM:+0100
TZOFFSETTO:+0200
TZNAME:CEST
DTSTART:20210328T010000
END:DAYLIGHT
BEGIN:STANDARD
TZOFFSETFROM:+0200
TZOFFSETTO:+0100
TZNAME:CET
DTSTART:20211031T010000
END:STANDARD
BEGIN:DAYLIGHT
TZOFFSETFROM:+0100
TZOFFSETTO:+0200
TZNAME:CEST
DTSTART:20220327T010000
END:DAYLIGHT
BEGIN:STANDARD
TZOFFSETFROM:+0200
TZOFFSETTO:+0100
TZNAME:CET
DTSTART:20221030T010000
END:STANDARD
BEGIN:DAYLIGHT
TZOFFSETFROM:+0100
TZOFFSETTO:+0200
TZNAME:CEST
DTSTART:20230326T010000
END:DAYLIGHT
BEGIN:STANDARD
TZOFFSETFROM:+0200
TZOFFSETTO:+0100
TZNAME:CET
DTSTART:20231029T010000
END:STANDARD
END:VTIMEZONE
BEGIN:VEVENT
DTSTART;TZID=Europe/Madrid:20220210T103000
DTEND;TZID=Europe/Madrid:20220210T113000
DTSTAMP:20260423T161402
CREATED:20220112T160244Z
LAST-MODIFIED:20220207T153010Z
UID:22367-1644489000-1644492600@clubdeamigos.eltorotv.com
SUMMARY:Visita guiada: MUSEO CERRALBO
DESCRIPTION:Visita guiada: MUSEO CERRALBO\n  \nACTIVIDAD PRESENCIAL\nEl Museo Cerralbo\, con sede en Madrid\, alberga la antigua colección privada de obras de arte\, objetos arqueológicos y demás antigüedades reunida por Enrique de Aguilera y Gamboa( 1845-1922)\, XVII marqués de Cerralbo\, quién ejerció la política\, pero sobre todo es recordado por su faceta como historiador y promotor de diversas excavaciones arqueológicas. El Cerralbo se considera un museo de ambiente\, es decir\, presenta la singularidad de ser uno de los escasos palacios decimonónicos madrileños que todavía conserva su decoración original. \nNo dejes pasar la oportunidad. Si estás interesado\, llama al Club o reserva tu plaza\nFecha: Jueves 10 de febrero a las 10:30h\nPrecio: Socio : 10€ / No socio: 15 €\n Llama para reservar tu plaza al teléfono: 916162464\n📍 Punto de encuentro: Se quedará siempre 15 minutos (10:15h)\, C/ Ventura Rodríguez\, 17 –  28008 Madrid
URL:https://clubdeamigos.eltorotv.com/evento/visita-guiada-museo-cerralbo/
LOCATION:Museo Cerralbo
CATEGORIES:Museos
ATTACH;FMTTYPE=image/png:https://clubdeamigos.eltorotv.com/wp-content/uploads/2022/01/@-CDA-Museo-Cerralbo-1.png
END:VEVENT
BEGIN:VEVENT
DTSTART;TZID=Europe/Madrid:20220224T110000
DTEND;TZID=Europe/Madrid:20220224T120000
DTSTAMP:20260423T161402
CREATED:20220111T120651Z
LAST-MODIFIED:20220114T122243Z
UID:22292-1645700400-1645704000@clubdeamigos.eltorotv.com
SUMMARY:Visita guiada: MUSEO ARQUEOLÓGICO - GRECIA CLÁSICA
DESCRIPTION:Visita guiada: MUSEO ARQUEOLÓGICO – GRECIA CLÁSICA\nACTIVIDAD PRESENCIAL\nCon esta visita guiada a través de las salas de la Antigua Grecia del Museo Arqueológico Nacional\, \, queremos seguir desmontando la Historia para conocer nuestro pasado y seguir su pista en nuestro día a día. ¿Nos acompañáis? \nEsta vez nos embarcaremos en un crucero por el Mediterráneo. Será un tour guiado por una de las civilizaciones que más ha contribuido al mundo actual y en especial a Europa y a su Historia. \nLo que os proponemos es una ruta guiada en la que veremos cómo fue evolucionando el mundo griego desde los cretenses y micénicos\, hasta Alejandro Magno y el Helenismo\, para finalmente convertirse en una provincia del Imperio Romano. \nDescubriremos sus historias\, sus leyendas\, sus anécdotas y curiosidades. Contaremos relatos legendarios de héroes\, dioses y humanos. Nos aproximaremos a la Guerra de Troya\, a la Odisea\, a Jasón y el vellocino de oro. Conoceremos a los dioses griegos\, sus gracias y sus desgracias\, sus amores y sus infidelidades y cómo sus actos van conformando la historia más sorprendente de la Humanidad. Os presentaremos a Hércules\, Héctor\, Aquiles\, Ulises y a otros muchos\, como los de las Termópilas\, o los de Marathon. \nNos trasladará a su vida cotidiana. Descubriremos el papel de la mujer\, las modas\, la gastronomía y los banquetes rituales. \nAnalizaremos la importancia de la educación\, del teatro y de los Juegos Olímpicos. Diferenciaremos a los espartanos de los atenienses. \nHablaremos de filósofos y científicos\, de democracia y tiranía\, así como de moneda y publicidad. \nNo dejes pasar la oportunidad. Si estás interesado\, llama al Club o reserva tu plaza\nFecha: Jueves 24 de febrero a las 11:00h\nPrecio: Socio : 10€ / No socio: 15 €\n Llama para reservar tu plaza al teléfono: 916162464\n📍 Punto de encuentro: Se quedará siempre 15 minutos (10:45h)\, C/ Serrano\, 13 28001 Madrid
URL:https://clubdeamigos.eltorotv.com/evento/visita-guiada-museo-arqueologico-grecia-clasica/
LOCATION:Museo Arqueológico
CATEGORIES:Actividades,Museos
ATTACH;FMTTYPE=image/png:https://clubdeamigos.eltorotv.com/wp-content/uploads/2022/01/@-CDA-VISITAS-GUIADAS-MUSEO-ARQUEOLOGICO-Grecia-Clasica-2.png
END:VEVENT
END:VCALENDAR