BEGIN:VCALENDAR
VERSION:2.0
PRODID:-//Club de amigos - ECPv6.15.20//NONSGML v1.0//EN
CALSCALE:GREGORIAN
METHOD:PUBLISH
X-WR-CALNAME:Club de amigos
X-ORIGINAL-URL:https://clubdeamigos.eltorotv.com
X-WR-CALDESC:Eventos para Club de amigos
REFRESH-INTERVAL;VALUE=DURATION:PT1H
X-Robots-Tag:noindex
X-PUBLISHED-TTL:PT1H
BEGIN:VTIMEZONE
TZID:Europe/Madrid
BEGIN:DAYLIGHT
TZOFFSETFROM:+0100
TZOFFSETTO:+0200
TZNAME:CEST
DTSTART:20180325T010000
END:DAYLIGHT
BEGIN:STANDARD
TZOFFSETFROM:+0200
TZOFFSETTO:+0100
TZNAME:CET
DTSTART:20181028T010000
END:STANDARD
BEGIN:DAYLIGHT
TZOFFSETFROM:+0100
TZOFFSETTO:+0200
TZNAME:CEST
DTSTART:20190331T010000
END:DAYLIGHT
BEGIN:STANDARD
TZOFFSETFROM:+0200
TZOFFSETTO:+0100
TZNAME:CET
DTSTART:20191027T010000
END:STANDARD
BEGIN:DAYLIGHT
TZOFFSETFROM:+0100
TZOFFSETTO:+0200
TZNAME:CEST
DTSTART:20200329T010000
END:DAYLIGHT
BEGIN:STANDARD
TZOFFSETFROM:+0200
TZOFFSETTO:+0100
TZNAME:CET
DTSTART:20201025T010000
END:STANDARD
END:VTIMEZONE
BEGIN:VEVENT
DTSTART;TZID=Europe/Madrid:20191204T180000
DTEND;TZID=Europe/Madrid:20191204T193000
DTSTAMP:20260425T214452
CREATED:20190930T163455Z
LAST-MODIFIED:20191129T092626Z
UID:4445-1575482400-1575487800@clubdeamigos.eltorotv.com
SUMMARY:Miércoles de Museos: Museo de la División Azul (1/2)
DESCRIPTION:Los visitantes podrán ver todo tipo de objetos históricos\, recuerdo de una época. Verán objetos tanto del Ejército Español como del Alemán. Conocerán una recreación de una habitación del hospital de Riga\, un búnker con un puesto de comunicaciones o una cocina de campaña. Reproducción de estancias y piezas únicas. \nEste museo es uno de los referentes en Europa para comprender lo acontecido en este periodo en España. \nSólo disponemos de un total de 20 plazas entre los días 4 y 11 de diciembre. \nHora: 18:00. \nImprescindible llamar previamente al 916162464  o enviar un email a club@intereconomia.eu indicándonos  nombre\, apellidos y número de teléfono. \nPrecio: 10€ socio/ 12 € no socio \nDisponemos de bonos de tres museos a elegir por Ud. de la agenda del Club al precio de 25€ socio/ 30€ no socio. \n  \n 
URL:https://clubdeamigos.eltorotv.com/evento/recorrido-por-la-historia-museo-de-la-division-azul-1-2/
LOCATION:Museo División Azul
CATEGORIES:Museos
ATTACH;FMTTYPE=application/pdf:https://clubdeamigos.eltorotv.com/wp-content/uploads/2019/09/@-CDA-DIVISION-AZUL-WEB-1.pdf
ORGANIZER;CN="Club de Amigos":MAILTO:club@intereconomia.eu
END:VEVENT
BEGIN:VEVENT
DTSTART;TZID=Europe/Madrid:20191211T180000
DTEND;TZID=Europe/Madrid:20191211T193000
DTSTAMP:20260425T214452
CREATED:20190930T163611Z
LAST-MODIFIED:20191129T092953Z
UID:4448-1576087200-1576092600@clubdeamigos.eltorotv.com
SUMMARY:Miércoles de Museos: Museo de la División Azul (2/2)
DESCRIPTION:Los visitantes podrán ver todo tipo de objetos históricos\, recuerdo de una época. Verán objetos tanto del Ejército Español como del Alemán. Conocerán una recreación de una habitación del hospital de Riga\, un búnker  con un puesto de comunicaciones o una cocina de campaña. Reproducción de estancias y piezas únicas. \nEste museo es uno de los referentes en Europa para comprender lo acontecido en este periodo en España. \nSólo disponemos de un total de 20 plazas entre los días 4 y 11 de diciembre. \nHora: 18:00. \nImprescindible llamar previamente al 916162464  o enviar un email a club@intereconomia.eu indicándonos  nombre\, apellidos y número de teléfono. \nPrecio: 10€ socio/ 12 € no socio \nDisponemos de bonos de tres museos a elegir por Ud. de la agenda del Club al precio de 25€ socio/ 30€ no socio.
URL:https://clubdeamigos.eltorotv.com/evento/recorrido-por-la-historia-museo-de-la-division-azul-2-2/
LOCATION:Museo División Azul
CATEGORIES:Museos
ATTACH;FMTTYPE=application/pdf:https://clubdeamigos.eltorotv.com/wp-content/uploads/2019/09/@-CDA-DIVISION-AZUL-WEB.pdf
ORGANIZER;CN="Club de Amigos":MAILTO:club@intereconomia.eu
END:VEVENT
END:VCALENDAR