BEGIN:VCALENDAR
VERSION:2.0
PRODID:-//Club de amigos - ECPv6.15.20//NONSGML v1.0//EN
CALSCALE:GREGORIAN
METHOD:PUBLISH
X-ORIGINAL-URL:https://clubdeamigos.eltorotv.com
X-WR-CALDESC:Eventos para Club de amigos
REFRESH-INTERVAL;VALUE=DURATION:PT1H
X-Robots-Tag:noindex
X-PUBLISHED-TTL:PT1H
BEGIN:VTIMEZONE
TZID:Europe/Madrid
BEGIN:DAYLIGHT
TZOFFSETFROM:+0100
TZOFFSETTO:+0200
TZNAME:CEST
DTSTART:20180325T010000
END:DAYLIGHT
BEGIN:STANDARD
TZOFFSETFROM:+0200
TZOFFSETTO:+0100
TZNAME:CET
DTSTART:20181028T010000
END:STANDARD
BEGIN:DAYLIGHT
TZOFFSETFROM:+0100
TZOFFSETTO:+0200
TZNAME:CEST
DTSTART:20190331T010000
END:DAYLIGHT
BEGIN:STANDARD
TZOFFSETFROM:+0200
TZOFFSETTO:+0100
TZNAME:CET
DTSTART:20191027T010000
END:STANDARD
BEGIN:DAYLIGHT
TZOFFSETFROM:+0100
TZOFFSETTO:+0200
TZNAME:CEST
DTSTART:20200329T010000
END:DAYLIGHT
BEGIN:STANDARD
TZOFFSETFROM:+0200
TZOFFSETTO:+0100
TZNAME:CET
DTSTART:20201025T010000
END:STANDARD
END:VTIMEZONE
BEGIN:VEVENT
DTSTART;TZID=Europe/Madrid:20191106T104500
DTEND;TZID=Europe/Madrid:20191106T123000
DTSTAMP:20260425T233341
CREATED:20190925T082237Z
LAST-MODIFIED:20191010T160636Z
UID:4430-1573037100-1573043400@clubdeamigos.eltorotv.com
SUMMARY:Un miércoles más: Teatro de la Comedia de Madrid
DESCRIPTION:El visitante podrá conocer la historia y la evolución del Teatro de la Comedia desde su creación en el año  1874 en un solar de la calle del Príncipe\,  pasando por las diferentes etapas artísticas hasta convertirse en el Teatro que es hoy en día. \nLas visitas tienen una duración de hora y media y se hará un recorrido en el que se mostrará el patio de butacas\, los palcos\, el escenario\, estancias privadas\, la decoración de las salas\, pasillos y escaleras\, …también se explicará la caja escénica donde se podrá ver el funcionamiento y el  trabajo del equipo técnico que hace posible la “magia del teatro” \n– No apto para personas con movilidad reducida – \nMiércoles 6 de noviembre \nHora: 10:45 a.m. \nSocios: 10€ // No Socios: 12 € \nBono de 3 Miércoles de Museos a elegir de los que hay en agenda del Club: Socios 25 € // No Socios: 30 € \nImprescindible reservar plaza llamando al 91-6162464 o escribiendo un correo a club@intereconomia.eu
URL:https://clubdeamigos.eltorotv.com/evento/teatro-de-la-comedia-de-madrid/
LOCATION:Teatro de la Comedia
CATEGORIES:Museos
ATTACH;FMTTYPE=application/pdf:https://clubdeamigos.eltorotv.com/wp-content/uploads/2019/09/@-CDA-TEATRO-WEB.pdf
ORGANIZER;CN="Club de Amigos":MAILTO:club@intereconomia.eu
END:VEVENT
BEGIN:VEVENT
DTSTART;TZID=Europe/Madrid:20191120T114500
DTEND;TZID=Europe/Madrid:20191120T130000
DTSTAMP:20260425T233341
CREATED:20190930T165037Z
LAST-MODIFIED:20191010T160510Z
UID:4450-1574250300-1574254800@clubdeamigos.eltorotv.com
SUMMARY:Miércoles de Museos: Casa de la Moneda
DESCRIPTION:El Museo Casa de la Moneda está considerado como uno de los museos más importantes del mundo en su género. La riqueza de sus colecciones\, sus extensas instalaciones y el apoyo técnico que nuestro personal presta a investigadores y docentes\, hacen del Museo un lugar único desde el que conocer el universo del dinero. \nEl Museo Casa de la Moneda invita al público a recorrer la historia del dinero desde sus orígenes\, a través de las distintas formas de producción del mismo a lo largo de la historia. \nVisitando sus salas pueden contemplarse importantes colecciones de numismática\, filatelia y prefilatelia\, billetes y otros medios de pago\, lotería y juegos\, biblioteca histórica\, colección artística\, maquinaria y útiles para la fabricación empleados por la Fábrica Nacional de Moneda y Timbre-Real Casa de la Moneda. \nPodrás acuñar tu propia moneda… \nSon plazas limitadas…forma de reservar llamando al 91-6162464 o enviandonos un correo con tus datos (nombre apellidos y móvil de contacto ) a club@intereconomia.eu \nPrecio: 10€ socio/ 12 € no socio \nSi coge un bono de tres museos a elegir por Ud. en la agenda del Club\, 25€ socio/ 30€ no socio
URL:https://clubdeamigos.eltorotv.com/evento/miercoles-de-museos-casa-de-la-moneda/
LOCATION:Casa de la Moneda
CATEGORIES:Museos
ATTACH;FMTTYPE=application/pdf:https://clubdeamigos.eltorotv.com/wp-content/uploads/2019/09/@-CDA-CASA-MONEDA-WEB-v2.pdf
ORGANIZER;CN="Club de Amigos":MAILTO:club@intereconomia.eu
END:VEVENT
END:VCALENDAR