BEGIN:VCALENDAR
VERSION:2.0
PRODID:-//Club de amigos - ECPv6.15.20//NONSGML v1.0//EN
CALSCALE:GREGORIAN
METHOD:PUBLISH
X-WR-CALNAME:Club de amigos
X-ORIGINAL-URL:https://clubdeamigos.eltorotv.com
X-WR-CALDESC:Eventos para Club de amigos
REFRESH-INTERVAL;VALUE=DURATION:PT1H
X-Robots-Tag:noindex
X-PUBLISHED-TTL:PT1H
BEGIN:VTIMEZONE
TZID:Europe/Madrid
BEGIN:DAYLIGHT
TZOFFSETFROM:+0100
TZOFFSETTO:+0200
TZNAME:CEST
DTSTART:20230326T010000
END:DAYLIGHT
BEGIN:STANDARD
TZOFFSETFROM:+0200
TZOFFSETTO:+0100
TZNAME:CET
DTSTART:20231029T010000
END:STANDARD
BEGIN:DAYLIGHT
TZOFFSETFROM:+0100
TZOFFSETTO:+0200
TZNAME:CEST
DTSTART:20240331T010000
END:DAYLIGHT
BEGIN:STANDARD
TZOFFSETFROM:+0200
TZOFFSETTO:+0100
TZNAME:CET
DTSTART:20241027T010000
END:STANDARD
BEGIN:DAYLIGHT
TZOFFSETFROM:+0100
TZOFFSETTO:+0200
TZNAME:CEST
DTSTART:20250330T010000
END:DAYLIGHT
BEGIN:STANDARD
TZOFFSETFROM:+0200
TZOFFSETTO:+0100
TZNAME:CET
DTSTART:20251026T010000
END:STANDARD
END:VTIMEZONE
BEGIN:VEVENT
DTSTART;TZID=Europe/Madrid:20240723T200000
DTEND;TZID=Europe/Madrid:20240723T223000
DTSTAMP:20260424T063526
CREATED:20240701T101715Z
LAST-MODIFIED:20240716T134737Z
UID:25368-1721764800-1721773800@clubdeamigos.eltorotv.com
SUMMARY:Debates en Libertad. Barcelona
DESCRIPTION:Los Debates en Libertad en Barcelona \nMartes 23 de julio a las 20h.\nDebates en Libertad es un ciclo de conferencias y debates centrado en temas de actualidad política\, social y económica.\n \nEstos eventos cuentan con la participación de expertos\, académicos y figuras públicas que debaten desde diferentes perspectivas sobre cuestiones relevantes para la sociedad; en esta ocasión contamos con Julio Ariza\, Xavier Horcajo\, Miguel Durán\, Alejo Vidal Quadras…  \nPromovemos el intercambio de ideas fomentando así el diálogo abierto y constructivo. \nA la finalización del debate habrá un cóctel donde podrán disfrutar de una variedad de bebidas y aperitivos\, permitiendo a los asistentes relajarse y socializar en un ambiente informal. \nInformación y reservas exclusivamente a través del Club de amigos llamando al 91-6162464 o enviando un correo a clubdeamigos@periodismoylibertad.org \nFecha y hora: Martes 23 de Julio a las 20:00 h \nPrecio: Socio: 50€ / No socio: 60€ \n*CANCELACIÓN:  Hasta 48h antes del evento.
URL:https://clubdeamigos.eltorotv.com/evento/foro-libertad-barcelona/
LOCATION:BARCELONA\, Barcelona\, España
CATEGORIES:Conferencias
ATTACH;FMTTYPE=image/jpeg:https://clubdeamigos.eltorotv.com/wp-content/uploads/2024/07/Debates-en-libertad-2024-1920x1080-B.jpg
END:VEVENT
END:VCALENDAR