BEGIN:VCALENDAR
VERSION:2.0
PRODID:-//Club de amigos - ECPv6.15.20//NONSGML v1.0//EN
CALSCALE:GREGORIAN
METHOD:PUBLISH
X-ORIGINAL-URL:https://clubdeamigos.eltorotv.com
X-WR-CALDESC:Eventos para Club de amigos
REFRESH-INTERVAL;VALUE=DURATION:PT1H
X-Robots-Tag:noindex
X-PUBLISHED-TTL:PT1H
BEGIN:VTIMEZONE
TZID:Europe/Madrid
BEGIN:DAYLIGHT
TZOFFSETFROM:+0100
TZOFFSETTO:+0200
TZNAME:CEST
DTSTART:20230326T010000
END:DAYLIGHT
BEGIN:STANDARD
TZOFFSETFROM:+0200
TZOFFSETTO:+0100
TZNAME:CET
DTSTART:20231029T010000
END:STANDARD
BEGIN:DAYLIGHT
TZOFFSETFROM:+0100
TZOFFSETTO:+0200
TZNAME:CEST
DTSTART:20240331T010000
END:DAYLIGHT
BEGIN:STANDARD
TZOFFSETFROM:+0200
TZOFFSETTO:+0100
TZNAME:CET
DTSTART:20241027T010000
END:STANDARD
BEGIN:DAYLIGHT
TZOFFSETFROM:+0100
TZOFFSETTO:+0200
TZNAME:CEST
DTSTART:20250330T010000
END:DAYLIGHT
BEGIN:STANDARD
TZOFFSETFROM:+0200
TZOFFSETTO:+0100
TZNAME:CET
DTSTART:20251026T010000
END:STANDARD
END:VTIMEZONE
BEGIN:VEVENT
DTSTART;TZID=Europe/Madrid:20240424T190000
DTEND;TZID=Europe/Madrid:20240424T203000
DTSTAMP:20260424T120136
CREATED:20240305T095443Z
LAST-MODIFIED:20240404T084714Z
UID:25119-1713985200-1713990600@clubdeamigos.eltorotv.com
SUMMARY:Ahora\, la Libertad. Luis del Pino.
DESCRIPTION:Luis del Pino\, en una conferencia exclusiva para socios del Club de Amigos\, presentará el nuevo proyecto de Radio Libertad: el equipo del programa\, los colaboradores\, el enfoque\, los planes de futuro\, cómo ha sido el arranque y responderá a las preguntas de los miembros del Club.\nPodrás disfrutar de esta conferencia de manera presencial o vía on-line. Elige la opción que prefieras.\nModalidad Presencial\nModalidad On Line\n\nDía: Miércoles\, 24 de abril \nHora:  19:00 h \nLugar: C/ Modesto Lafuente\, 42 \nActo Socios (Gratuito) \nActo No Socios: 20€ \nAforo presencial limitado \nSi no sabes realizar la inscripción a través de la web\, llama al teléfono 91 616 24 64 o escribe un correo electrónico a clubdeamigos@periodismoylibertad.org y te ayudamos \nPolítica de cancelación: una vez realizada la inscripción\, sólo se devolverá el importe completo con justificante médico con día y hora. \nLos gastos de penalización por cancelar:\nEl 5%  si el aviso se realiza entre 10 y 15 días antes \nEl 25% si se comunica entre 3 y 10 días de antelación\nEl 50% si se avisa en las 48 horas previas.\nSi el cliente no realiza la actividad  sin previo aviso\, está obligado a pagar la totalidad.
URL:https://clubdeamigos.eltorotv.com/evento/ahora-la-libertad-luis-del-pino/
CATEGORIES:Conferencias
ATTACH;FMTTYPE=image/jpeg:https://clubdeamigos.eltorotv.com/wp-content/uploads/2024/03/@-CDA-LUIS-DEL-PINO-AHORA-LA-LIBERTAD-No-borrar-hasta-25-04-1.jpg
END:VEVENT
END:VCALENDAR