BEGIN:VCALENDAR
VERSION:2.0
PRODID:-//Club de amigos - ECPv6.15.20//NONSGML v1.0//EN
CALSCALE:GREGORIAN
METHOD:PUBLISH
X-WR-CALNAME:Club de amigos
X-ORIGINAL-URL:https://clubdeamigos.eltorotv.com
X-WR-CALDESC:Eventos para Club de amigos
REFRESH-INTERVAL;VALUE=DURATION:PT1H
X-Robots-Tag:noindex
X-PUBLISHED-TTL:PT1H
BEGIN:VTIMEZONE
TZID:Europe/Madrid
BEGIN:DAYLIGHT
TZOFFSETFROM:+0100
TZOFFSETTO:+0200
TZNAME:CEST
DTSTART:20250330T010000
END:DAYLIGHT
BEGIN:STANDARD
TZOFFSETFROM:+0200
TZOFFSETTO:+0100
TZNAME:CET
DTSTART:20251026T010000
END:STANDARD
BEGIN:DAYLIGHT
TZOFFSETFROM:+0100
TZOFFSETTO:+0200
TZNAME:CEST
DTSTART:20260329T010000
END:DAYLIGHT
BEGIN:STANDARD
TZOFFSETFROM:+0200
TZOFFSETTO:+0100
TZNAME:CET
DTSTART:20261025T010000
END:STANDARD
BEGIN:DAYLIGHT
TZOFFSETFROM:+0100
TZOFFSETTO:+0200
TZNAME:CEST
DTSTART:20270328T010000
END:DAYLIGHT
BEGIN:STANDARD
TZOFFSETFROM:+0200
TZOFFSETTO:+0100
TZNAME:CET
DTSTART:20271031T010000
END:STANDARD
END:VTIMEZONE
BEGIN:VEVENT
DTSTART;TZID=Europe/Madrid:20260420T080000
DTEND;TZID=Europe/Madrid:20260503T170000
DTSTAMP:20260423T110422
CREATED:20260420T085104Z
LAST-MODIFIED:20260420T085419Z
UID:26338-1776672000-1777827600@clubdeamigos.eltorotv.com
SUMMARY:Sorteo Especial del Día de la Madre. El mayor premio es verla sonreír.
DESCRIPTION:Este año\, el regalo no cabe en una caja.\nA veces\, encontrar el regalo perfecto para mamá es imposible. Porque\, ¿cómo envuelves el apoyo incondicional? ¿En qué caja metes todos sus consejos?\nEste Día de la Madre\, regálale la oportunidad de cumplir sus sueños\, esos que quizás aparcó para que tú cumplieras los tuyos. Un décimo del Sorteo Especial no es solo un papel; es una invitación a soñar en grande\, a planear ese viaje pendiente o\, simplemente\, a saber que lo tiene todo cubierto.\nPorque ella te dio la suerte de tenerla. Ahora\, devuélvele la suerte en forma de ilusión.\nSorteo Especial del Día de la Madre. El mayor premio es verla sonreír.\n  \nTe informamos de las diferentes formas de comprar tu décimo de lotería\, tanto de forma presencial como online.\n \nPresencial:\nc/ Modesto Lafuente 42. \nNuestro horario de atención: \nLunes a jueves\, de 10:00 a 16:00 horas \n\nViernes de 10 a 15 horas \nOnline:\nSi prefieres la comodidad de comprar desde casa\, también puedes adquirirlo a través de en este enlace  \n \n¡Es rápido y sencillo!
URL:https://clubdeamigos.eltorotv.com/evento/dia-de-la-madre-el-mayor-premio-es-verla-sonreir-2/
ATTACH;FMTTYPE=image/png:https://clubdeamigos.eltorotv.com/wp-content/uploads/2026/04/loetria-del-dia-del-madre-2026-copia.png
END:VEVENT
END:VCALENDAR